
BEGIN:VCALENDAR
VERSION:2.0
PRODID:-//Centre for Research and Innovation Support - ECPv6.15.20//NONSGML v1.0//EN
CALSCALE:GREGORIAN
METHOD:PUBLISH
X-ORIGINAL-URL:https://cris.utoronto.ca
X-WR-CALDESC:Events for Centre for Research and Innovation Support
REFRESH-INTERVAL;VALUE=DURATION:PT1H
X-Robots-Tag:noindex
X-PUBLISHED-TTL:PT1H
BEGIN:VTIMEZONE
TZID:America/Toronto
BEGIN:DAYLIGHT
TZOFFSETFROM:-0500
TZOFFSETTO:-0400
TZNAME:EDT
DTSTART:20250309T070000
END:DAYLIGHT
BEGIN:STANDARD
TZOFFSETFROM:-0400
TZOFFSETTO:-0500
TZNAME:EST
DTSTART:20251102T060000
END:STANDARD
BEGIN:DAYLIGHT
TZOFFSETFROM:-0500
TZOFFSETTO:-0400
TZNAME:EDT
DTSTART:20260308T070000
END:DAYLIGHT
BEGIN:STANDARD
TZOFFSETFROM:-0400
TZOFFSETTO:-0500
TZNAME:EST
DTSTART:20261101T060000
END:STANDARD
BEGIN:DAYLIGHT
TZOFFSETFROM:-0500
TZOFFSETTO:-0400
TZNAME:EDT
DTSTART:20270314T070000
END:DAYLIGHT
BEGIN:STANDARD
TZOFFSETFROM:-0400
TZOFFSETTO:-0500
TZNAME:EST
DTSTART:20271107T060000
END:STANDARD
END:VTIMEZONE
BEGIN:VEVENT
DTSTART;TZID=America/Toronto:20260420T130000
DTEND;TZID=America/Toronto:20260420T150000
DTSTAMP:20260419T172809
CREATED:20260302T155046Z
LAST-MODIFIED:20260302T155046Z
UID:10013070-1776690000-1776697200@cris.utoronto.ca
SUMMARY:Accessible People Leadership - Apr. 20\, 2026
DESCRIPTION:This session will provide managers and supervisors with key strategies to create and maintain accessible and inclusive working environments. Together\, we will identify the critical competencies people leaders need to make their teams feel welcome\, a sense of belonging and comfortable to contribute fully. Through the exploration of concepts like universal design\, emerging perspectives like neurodiversity\, and ideas from disability inclusion\, participants will leave the session feeling confident they can foster inclusive working environments where excellence flourishes. \n 
URL:https://cris.utoronto.ca/event/accessible-people-leadership-apr-20-2026/
END:VEVENT
BEGIN:VEVENT
DTSTART;TZID=America/Toronto:20260421T130000
DTEND;TZID=America/Toronto:20260421T150000
DTSTAMP:20260419T172809
CREATED:20260302T153524Z
LAST-MODIFIED:20260302T153630Z
UID:10013058-1776776400-1776783600@cris.utoronto.ca
SUMMARY:Accessible Content Fundamentals - Apr 21\, 2026
DESCRIPTION:This session focuses on accessible content creation practices. Techniques for conceptualizing\, creating and maintaining accessible documents as well as how to build these into department-wide processes will be discussed. A heavy emphasis is placed on why those techniques are important\, and the ramifications of formatting decisions.
URL:https://cris.utoronto.ca/event/accessible-content-fundamentals-apr-21-2026/
END:VEVENT
BEGIN:VEVENT
DTSTART;TZID=America/Toronto:20260421T140000
DTEND;TZID=America/Toronto:20260421T153000
DTSTAMP:20260419T172809
CREATED:20260302T155140Z
LAST-MODIFIED:20260302T155140Z
UID:10013071-1776780000-1776785400@cris.utoronto.ca
SUMMARY:Open Doors: Faith & Anti-Racism @ U of T - Centre for Jewish Studies - Apr. 21\, 2026
DESCRIPTION:With hospitality being a central tenet and virtue in many cultures\, traditions\, and philosophies\, we want to open doors to some of the spaces at U of T that serve as intellectual and community hubs for creed and race-based communities. Join us at the Centre for Jewish Studies (CJS) and Lab for the Global Study of Antisemitism to learn more about the breadth of disciplines\, research projects\, and community engagement and collaboration undertaken by these academic units. This small gathering — open to a maximum of 20 people — will include candid conversation and a chance to meet faculty\, staff and students affiliated with CJS and the Lab.
URL:https://cris.utoronto.ca/event/open-doors-faith-anti-racism-u-of-t-centre-for-jewish-studies-apr-21-2026/
END:VEVENT
BEGIN:VEVENT
DTSTART;TZID=America/Toronto:20260422T123000
DTEND;TZID=America/Toronto:20260422T170000
DTSTAMP:20260419T172809
CREATED:20260316T131254Z
LAST-MODIFIED:20260316T131254Z
UID:10013086-1776861000-1776877200@cris.utoronto.ca
SUMMARY:Women Driving Health Innovation: Celebrating Excellence in Entrepreneurship - Apr. 22\, 2026
DESCRIPTION:Health Innovation Hub (H2i) at the Temerty Faculty of Medicine and the Schwartz Reisman Innovation Campus Ecosystem team invite you to an engaging afternoon celebrating incredible women leaders in health innovation: \n\n​Hear from the next generation of women health entrepreneurs through H2i’s annual FemSTEM Pitch Competition.\n​Explore emerging opportunities and crucial considerations for AI in women’s health\, through an engaging panel with founders and subject matter experts.\n​Immerse yourself in the ecosystem of women-led health innovations through a dynamic start-up showcase.
URL:https://cris.utoronto.ca/event/women-driving-health-innovation-celebrating-excellence-in-entrepreneurship-apr-22-2026/
END:VEVENT
BEGIN:VEVENT
DTSTART;TZID=America/Toronto:20260423T110000
DTEND;TZID=America/Toronto:20260423T120000
DTSTAMP:20260419T172809
CREATED:20260116T143012Z
LAST-MODIFIED:20260419T152841Z
UID:10012980-1776942000-1776945600@cris.utoronto.ca
SUMMARY:Learning Together Discussion Group: San’yas Anti-Racism Indigenous Cultural Safety Training Program - Spring 2026
DESCRIPTION:The San’yas Anti-Racism Indigenous Cultural Safety Training Program (https://sanyas.ca/courses/ontario/core-foundations) is an online learning opportunity developed by the Southwest Ontario Aboriginal Health Access Centre in partnership with San’yas in British Columbia through collaboration with Indigenous health leaders and educators. It is designed for anyone who intends to enhance Indigenous Cultural Safety in their work and workplace. Indigenous Cultural Safety means working in ways that are more fair for Indigenous people\, and free from discrimination.\nThe Centre for Research & Innovation Support (CRIS) is pleased to host a 7-week complementary “Learning Together” opportunity for researchers and research support staff working in academic divisions at the University of Toronto who are committed to reconciliation and learning how to respect and work to create cultural safety with Indigenous people and communities.\nThis 7-week program includes both asynchronous and synchronous learning opportunities. Participants who are accepted into the “Learning Together” group will be provided individual access to the San’yas Anti-Racism Indigenous Cultural Safety Training Program. This program\, offered asynchronously\, is divided into 7 modules that cover topics including colonization in Canada\, racism\, discrimination\, and stereotyping\, and their impacts on Indigenous peoples in different contexts\, and taking action to strengthen Indigenous Cultural Safety in relationships\, practices\, and services. Participants will receive access to online modules which include information\, reflective questions\, activities\, discussion boards\, journal entries\, and videos.\nIn addition to participating in the asynchronous training\, participants will meet synchronously over 7 weeks in a ‘book club’ format. Each week\, participants will commit to completing one module from San’yas Anti-Racism Indigenous Cultural Safety Training Program prior to the weekly discussion. The weekly participant-driven discussions are an opportunity to deepen learning together with peers by reflecting on key learnings from each module\, sharing experiences and making connections to your own work\, and raising questions for group discussion.\nExpression of Interest Deadline: Friday March 6\, 2026\, 5:00pm EST. Applicants will be notified of their course participation by the first week of April.\nWho should attend?\nThis discussion group is open the University of Toronto and TAHSN community. Researchers and their team members\, and research support staff working in academic divisions who are committed to reconciliation and learning how they can respect and work to create cultural safety with Indigenous people and communities are invited to apply.\nIf you have multiple team members that wish to participate\, please have each individual complete an expression of interest.\nSession Format\, Dates and Times:\nThe discussion groups will occur virtually on Zoom.\nDates:\n• Thursday April 23\, 2026 | 11:00am-12:00pm\n• Thursday April 30\, 2026  | 11:00am-12:00pm\n• Thursday May 7\, 2026  | 11:00am-12:00pm\n• Thursday May 14\, 2026  | 11:00am-12:00pm\n• Thursday May 21\, 2026  | 11:00am-12:00pm\n• Thursday May 28\, 2026  | 11:00am-12:00pm\n• Thursday June 4\, 2026  | 11:00am-12:00pm
URL:https://cris.utoronto.ca/event/learning-together-discussion-group-sanyas-anti-racism-indigenous-cultural-safety-training-program-spring-2026/
ATTACH;FMTTYPE=image/jpeg:https://cris.utoronto.ca/wp-content/uploads/Sanyas-Spring-2026.jpg
END:VEVENT
BEGIN:VEVENT
DTSTART;TZID=America/Toronto:20260423T183000
DTEND;TZID=America/Toronto:20260423T210000
DTSTAMP:20260419T172809
CREATED:20260414T202721Z
LAST-MODIFIED:20260414T202721Z
UID:10013141-1776969000-1776978000@cris.utoronto.ca
SUMMARY:Hiphop as Settlement: A Research Report Launch Event - Apr. 23\, 2026
DESCRIPTION:Join for an arts showcase and panel with Toronto hip-hop artists as we discuss immigration\, settlement and belonging. \nFeaturing: \n\nLive art by Elicser\,\nA turntablist showcase by DMC World Champion\, DJ Dopey\nRhymes by J Wyze\nBeats by DJ Grumps\nPanelists Shad and Maral\nHosted by Myrtle Millares & Mark V. Campbell
URL:https://cris.utoronto.ca/event/hiphop-as-settlement-a-research-report-launch-event-apr-23-2026/
END:VEVENT
BEGIN:VEVENT
DTSTART;TZID=America/Toronto:20260424T100000
DTEND;TZID=America/Toronto:20260424T110000
DTSTAMP:20260419T172809
CREATED:20260402T145845Z
LAST-MODIFIED:20260419T152841Z
UID:10013106-1777024800-1777028400@cris.utoronto.ca
SUMMARY:Research & Innovation Dashboards Training for Users - April 24\, 2026
DESCRIPTION:Join us at this online training/demo of the VPRI Dashboards\, including ART (Tableau)! Dashboards access is required and is limited to staff in research roles at U of T.
URL:https://cris.utoronto.ca/event/research-innovation-dashboards-training-for-users-april-24-2026/
END:VEVENT
BEGIN:VEVENT
DTSTART;TZID=America/Toronto:20260424T121000
DTEND;TZID=America/Toronto:20260424T130000
DTSTAMP:20260419T172809
CREATED:20250826T142102Z
LAST-MODIFIED:20260410T195901Z
UID:10012673-1777032600-1777035600@cris.utoronto.ca
SUMMARY:Reconciliation in Practice: A Learning Community for Faculty and Staff - Apr 24\, 2026
DESCRIPTION:Reconciliation in Practice: A Learning Community for Faculty and Staff is a monthly professional learning series that offers a reflective and supportive space for faculty and staff who wish to engage more meaningfully with reconciliation in their teaching\, research\, service\, and daily practices. \nEach month\, participants are introduced to a concrete\, accessible strategy drawn from reconciliation-focused resources and scholarship. These strategies guide reflection and action\, encouraging participants to explore their roles\, responsibilities\, and relationships within the university context. \nSessions are designed to be accessible and action-oriented. Participants will explore themes such as learning Indigenous histories\, building respectful relationships\, challenging colonial habits\, and integrating reconciliation into their professional and personal lives. \nWhile all are welcome\, the series is especially supportive of non-Indigenous faculty and staff who are seeking to build understanding\, reflect with humility\, and take ongoing action in respectful and responsible ways. \nThis is a reflective\, supportive\, and non-judgmental space where members commit to learning with humility and taking responsibility for their part in reconciliation. \nLearning Outcomes\nBy participating in this community\, members will: \n\nEngage with reconciliation as an ongoing personal and professional practice grounded in Indigenous- and settler-informed perspectives.\nReflect critically and honestly on their roles and responsibilities within academic and institutional contexts.\nApply selected reconciliation strategies to their own contexts (e.g.\, teaching\, collaboration\, governance\, mentorship).\nBuild capacity for relational accountability\, humility\, and allyship in their work.\nParticipate in a community of practice that encourages sustained\, collective\, and evolving learning.\n\nUpcoming Sessions \nThe Reconciliation in Practice community meets on the last Friday of the month from 12:10 pm to 1 pm. Upcoming 2025–26 dates include: \n\nSeptember 26\, 2025 \nOctober 31\, 2025\nNovember 28\, 2025\nJanuary 30\, 2026\nFebruary 27\, 2026\nMarch 27\, 2026\nApril 24\, 2026
URL:https://cris.utoronto.ca/event/reconciliation-in-practice-a-learning-community-for-faculty-and-staff-apr-24-2026/
END:VEVENT
BEGIN:VEVENT
DTSTART;TZID=America/Toronto:20260428T100000
DTEND;TZID=America/Toronto:20260428T120000
DTSTAMP:20260419T172809
CREATED:20260302T155311Z
LAST-MODIFIED:20260302T155311Z
UID:10013072-1777370400-1777377600@cris.utoronto.ca
SUMMARY:2SLGBTQ+ Discrimination and Harassment in the Workplace - Apr. 28\, 2026
DESCRIPTION:This workshop will provide participants with a framework for understanding 2SLGBTQ-based discrimination and harassment. There will be focussed discussions on experiences of workplace discrimination and the impacts at work. The session will address relevant institutional policies and practices\, and will also feature case studies for deepening learning and understanding of the impacts of 2SLGBTQ-based discrimination and harassment in the workplace. Participants will be offered strategies for building more inclusive campus communities and workplaces.
URL:https://cris.utoronto.ca/event/2slgbtq-discrimination-and-harassment-in-the-workplace-apr-28-2026/
END:VEVENT
BEGIN:VEVENT
DTSTART;TZID=America/Toronto:20260428T130000
DTEND;TZID=America/Toronto:20260428T170000
DTSTAMP:20260419T172809
CREATED:20260409T155126Z
LAST-MODIFIED:20260409T155126Z
UID:10013111-1777381200-1777395600@cris.utoronto.ca
SUMMARY:CRAFT Industry Open House - Apr. 28\, 2026
DESCRIPTION:You are invite you to the CRAFT Industry Open House\, an event designed to bring together industry partners and academic researchers to spark new collaborations\, showcase applied research opportunities\, and highlight the support available for co-delivered projects. \nEvent Highlights \n\nAcademic talks showcasing research projects with strong potential for industry collaboration\nOverview of CRAFT\, including partnership models\, available funding\, and support for industry–academic co-development\nIndustry presentations featuring research- or process-focused topics that may interest peers across sectors\nTours of CRAFT facilities\nNetworking and light refreshments
URL:https://cris.utoronto.ca/event/craft-industry-open-house-apr-28-2026/
END:VEVENT
BEGIN:VEVENT
DTSTART;TZID=America/Toronto:20260428T140000
DTEND;TZID=America/Toronto:20260428T163000
DTSTAMP:20260419T172809
CREATED:20260302T155419Z
LAST-MODIFIED:20260302T155419Z
UID:10013073-1777384800-1777393800@cris.utoronto.ca
SUMMARY:Addressing Anti-Muslim\, Anti-Arab\, and Anti-Palestinian Discrimination at the University of Toronto - Apr. 28\, 2026
DESCRIPTION:This workshop offers a foundational understanding of how anti-Muslim\, anti-Arab\, and anti-Palestinian* discrimination manifests in learning\, working\, and research environments at the University of Toronto and explores the University’s policy and legal responsibilities in addressing it. Premised on current human rights and policy frameworks\, this session will help participants build awareness of the lived experiences of Muslim\, Arab\, and Palestinian community members on campus. Participants will also learn to recognize examples of anti-Muslim\, anti-Arab\, and anti-Palestinian discrimination and harassment\, learn about key tools and strategies for creating inclusive environments\, and understand the processes for reporting and responding to such conduct.
URL:https://cris.utoronto.ca/event/addressing-anti-muslim-anti-arab-and-anti-palestinian-discrimination-at-the-university-of-toronto-apr-28-2026/
END:VEVENT
BEGIN:VEVENT
DTSTART;TZID=America/Toronto:20260428T173000
DTEND;TZID=America/Toronto:20260428T190000
DTSTAMP:20260419T172809
CREATED:20260409T154807Z
LAST-MODIFIED:20260410T183712Z
UID:10013109-1777397400-1777402800@cris.utoronto.ca
SUMMARY:Memorial Lecture on Indigenous Health - Apr. 28\, 2026
DESCRIPTION:The 2026 Dr. Marguerite (Peggy) Hill Memorial Lecture on Indigenous Health will explore the vital theme of environmental health justice. Ojistoh Kahnawahere Horn MSc\, MD\, CCFP (Medical Director of Health for the Mohawk Council of Akwesasne and President of the Indigenous Physicians Association of Canada) is the keynote speaker.
URL:https://cris.utoronto.ca/event/memorial-lecture-on-indigenous-health-apr-28-2026/
END:VEVENT
BEGIN:VEVENT
DTSTART;TZID=America/Toronto:20260429T130000
DTEND;TZID=America/Toronto:20260429T153000
DTSTAMP:20260419T172809
CREATED:20260302T155518Z
LAST-MODIFIED:20260302T155518Z
UID:10013074-1777467600-1777476600@cris.utoronto.ca
SUMMARY:Recognizing and Addressing Race\, Place of Origin & Creed-Based Discriminations in our Work Environment - Apr. 29\, 2026
DESCRIPTION:Discrimination based on race\, place of origin and creed (religion/spirituality or faith) can manifest in various ways within the workplace\, sometimes distinctly and other times in overlapping forms. This interactive workshop aims to deepen participants’ understanding of how both race\, place of origin and creed-based discrimination can occur in our work environments. Participants will learn to recognize these forms of discrimination and their impacts\, explore relevant University policies to address discrimination and harassment and share strategies and practices that support inclusive and equitable workplace.
URL:https://cris.utoronto.ca/event/recognizing-and-addressing-race-place-of-origin-creed-based-discriminations-in-our-work-environment-apr-29-2026/
END:VEVENT
BEGIN:VEVENT
DTSTART;TZID=America/Toronto:20260430T120000
DTEND;TZID=America/Toronto:20260430T130000
DTSTAMP:20260419T172809
CREATED:20260331T203955Z
LAST-MODIFIED:20260331T203955Z
UID:10013104-1777550400-1777554000@cris.utoronto.ca
SUMMARY:CanPath Access Office Hours - Apr. 30\, 2026
DESCRIPTION:Got a research idea but need the right data to bring it to life? Explore newly added CanPath datasets and visualizations\, from COVID-19 to Canada’s top diseases\, and get your questions answered at our next Access Office Hours. \nOn Thursday\, April 30\, at 12 PM EDT\, connect directly with the CanPath team and get your questions answered. Whether you’re just getting started or have a specific request in mind\, this is your chance to: \n\nLearn how to access CanPath data and biosamples\nAsk questions about the Portal\, feasibility\, or sample availability
URL:https://cris.utoronto.ca/event/canpath-access-office-hours-apr-30-2026/
END:VEVENT
END:VCALENDAR